BEGIN:VCALENDAR
VERSION:2.0
PRODID:-//淡路ファームパーク イングランドの丘 - ECPv6.15.20//NONSGML v1.0//EN
CALSCALE:GREGORIAN
METHOD:PUBLISH
X-WR-CALNAME:淡路ファームパーク イングランドの丘
X-ORIGINAL-URL:https://www.england-hill.com
X-WR-CALDESC:淡路ファームパーク イングランドの丘 のイベント
REFRESH-INTERVAL;VALUE=DURATION:PT1H
X-Robots-Tag:noindex
X-PUBLISHED-TTL:PT1H
BEGIN:VTIMEZONE
TZID:Asia/Tokyo
BEGIN:STANDARD
TZOFFSETFROM:+0900
TZOFFSETTO:+0900
TZNAME:JST
DTSTART:20250101T000000
END:STANDARD
END:VTIMEZONE
BEGIN:VEVENT
DTSTART;VALUE=DATE:20260501
DTEND;VALUE=DATE:20260502
DTSTAMP:20260426T114335
CREATED:20260304T024204Z
LAST-MODIFIED:20260304T024204Z
UID:15238-1777593600-1777679999@www.england-hill.com
SUMMARY:💎宝さがし (終日開催)
DESCRIPTION:淡路島イングランドの丘で大人気のイベント「宝さがしゲーム！！」\n広大な敷地内に隠された“宝箱”を見つけだそう!見事、“宝箱”を見つけると景品プレゼント！“宝箱”は全部で5個、隠されているよ@(・●・)@\n参加費無料！誰でもゲームに参加できるよ！！！ \n【開催時間】 終日開催\n【料　　金】 参加費無料 \n※雨天の場合は中止になります。\n※宝箱が全部見つかると終了となります。
URL:https://www.england-hill.com/event/%f0%9f%92%8e%e5%ae%9d%e3%81%95%e3%81%8c%e3%81%97-%e7%b5%82%e6%97%a5%e9%96%8b%e5%82%ac-23/
CATEGORIES:宝さがし
ATTACH;FMTTYPE=image/jpeg:https://www.england-hill.com/_config/wp/wp-content/uploads/2025/08/IMG_3624.jpg
END:VEVENT
BEGIN:VEVENT
DTSTART;VALUE=DATE:20260502
DTEND;VALUE=DATE:20260503
DTSTAMP:20260426T114335
CREATED:20260304T024300Z
LAST-MODIFIED:20260305T012045Z
UID:15240-1777680000-1777766399@www.england-hill.com
SUMMARY:💎宝さがし (終日開催)
DESCRIPTION:淡路島イングランドの丘で大人気のイベント「宝さがしゲーム！！」\n広大な敷地内に隠された“宝箱”を見つけだそう!見事、“宝箱”を見つけると景品プレゼント！“宝箱”は全部で10個、隠されているよ@(・●・)@\n参加費無料！誰でもゲームに参加できるよ！！！ \n【開催時間】 終日開催\n【料　　金】 参加費無料 \n※雨天の場合は中止になります。\n※宝箱が全部見つかると終了となります。
URL:https://www.england-hill.com/event/%f0%9f%92%8e%e5%ae%9d%e3%81%95%e3%81%8c%e3%81%97-%e7%b5%82%e6%97%a5%e9%96%8b%e5%82%ac-24/
CATEGORIES:宝さがし
ATTACH;FMTTYPE=image/jpeg:https://www.england-hill.com/_config/wp/wp-content/uploads/2025/08/IMG_3624.jpg
END:VEVENT
BEGIN:VEVENT
DTSTART;VALUE=DATE:20260503
DTEND;VALUE=DATE:20260504
DTSTAMP:20260426T114335
CREATED:20260304T024350Z
LAST-MODIFIED:20260305T012128Z
UID:15242-1777766400-1777852799@www.england-hill.com
SUMMARY:💎宝さがし (終日開催)
DESCRIPTION:淡路島イングランドの丘で大人気のイベント「宝さがしゲーム！！」\n広大な敷地内に隠された“宝箱”を見つけだそう!見事、“宝箱”を見つけると景品プレゼント！“宝箱”は全部で10個、隠されているよ@(・●・)@\n参加費無料！誰でもゲームに参加できるよ！！！ \n【開催時間】 終日開催\n【料　　金】 参加費無料 \n※雨天の場合は中止になります。\n※宝箱が全部見つかると終了となります。
URL:https://www.england-hill.com/event/%f0%9f%92%8e%e5%ae%9d%e3%81%95%e3%81%8c%e3%81%97-%e7%b5%82%e6%97%a5%e9%96%8b%e5%82%ac-25/
CATEGORIES:宝さがし
ATTACH;FMTTYPE=image/jpeg:https://www.england-hill.com/_config/wp/wp-content/uploads/2025/08/IMG_3624.jpg
END:VEVENT
BEGIN:VEVENT
DTSTART;VALUE=DATE:20260504
DTEND;VALUE=DATE:20260505
DTSTAMP:20260426T114335
CREATED:20260304T024819Z
LAST-MODIFIED:20260305T012147Z
UID:15244-1777852800-1777939199@www.england-hill.com
SUMMARY:💎宝さがし (終日開催)
DESCRIPTION:淡路島イングランドの丘で大人気のイベント「宝さがしゲーム！！」\n広大な敷地内に隠された“宝箱”を見つけだそう!見事、“宝箱”を見つけると景品プレゼント！“宝箱”は全部で10個、隠されているよ@(・●・)@\n参加費無料！誰でもゲームに参加できるよ！！！ \n【開催時間】 終日開催\n【料　　金】 参加費無料 \n※雨天の場合は中止になります。\n※宝箱が全部見つかると終了となります。
URL:https://www.england-hill.com/event/%f0%9f%92%8e%e5%ae%9d%e3%81%95%e3%81%8c%e3%81%97-%e7%b5%82%e6%97%a5%e9%96%8b%e5%82%ac-26/
CATEGORIES:宝さがし
ATTACH;FMTTYPE=image/jpeg:https://www.england-hill.com/_config/wp/wp-content/uploads/2025/08/IMG_3624.jpg
END:VEVENT
BEGIN:VEVENT
DTSTART;VALUE=DATE:20260505
DTEND;VALUE=DATE:20260506
DTSTAMP:20260426T114335
CREATED:20260304T024932Z
LAST-MODIFIED:20260305T012251Z
UID:15246-1777939200-1778025599@www.england-hill.com
SUMMARY:💎宝さがし (終日開催)
DESCRIPTION:淡路島イングランドの丘で大人気のイベント「宝さがしゲーム！！」\n広大な敷地内に隠された“宝箱”を見つけだそう!見事、“宝箱”を見つけると景品プレゼント！“宝箱”は全部で10個、隠されているよ@(・●・)@\n参加費無料！誰でもゲームに参加できるよ！！！ \n【開催時間】 終日開催\n【料　　金】 参加費無料 \n※雨天の場合は中止になります。\n※宝箱が全部見つかると終了となります。
URL:https://www.england-hill.com/event/%f0%9f%92%8e%e5%ae%9d%e3%81%95%e3%81%8c%e3%81%97-%e7%b5%82%e6%97%a5%e9%96%8b%e5%82%ac-27/
CATEGORIES:宝さがし
ATTACH;FMTTYPE=image/jpeg:https://www.england-hill.com/_config/wp/wp-content/uploads/2025/08/IMG_3624.jpg
END:VEVENT
BEGIN:VEVENT
DTSTART;VALUE=DATE:20260506
DTEND;VALUE=DATE:20260507
DTSTAMP:20260426T114335
CREATED:20260304T025230Z
LAST-MODIFIED:20260305T012337Z
UID:15248-1778025600-1778111999@www.england-hill.com
SUMMARY:💎宝さがし (終日開催)
DESCRIPTION:淡路島イングランドの丘で大人気のイベント「宝さがしゲーム！！」\n広大な敷地内に隠された“宝箱”を見つけだそう!見事、“宝箱”を見つけると景品プレゼント！“宝箱”は全部で10個、隠されているよ@(・●・)@\n参加費無料！誰でもゲームに参加できるよ！！！ \n【開催時間】 終日開催\n【料　　金】 参加費無料 \n※雨天の場合は中止になります。\n※宝箱が全部見つかると終了となります。
URL:https://www.england-hill.com/event/%f0%9f%92%8e%e5%ae%9d%e3%81%95%e3%81%8c%e3%81%97-%e7%b5%82%e6%97%a5%e9%96%8b%e5%82%ac-28/
CATEGORIES:宝さがし
ATTACH;FMTTYPE=image/jpeg:https://www.england-hill.com/_config/wp/wp-content/uploads/2025/08/IMG_3624.jpg
END:VEVENT
BEGIN:VEVENT
DTSTART;VALUE=DATE:20260509
DTEND;VALUE=DATE:20260510
DTSTAMP:20260426T114335
CREATED:20260304T025334Z
LAST-MODIFIED:20260304T025334Z
UID:15250-1778284800-1778371199@www.england-hill.com
SUMMARY:💎宝さがし (終日開催)
DESCRIPTION:淡路島イングランドの丘で大人気のイベント「宝さがしゲーム！！」\n広大な敷地内に隠された“宝箱”を見つけだそう!見事、“宝箱”を見つけると景品プレゼント！“宝箱”は全部で5個、隠されているよ@(・●・)@\n参加費無料！誰でもゲームに参加できるよ！！！ \n【開催時間】 終日開催\n【料　　金】 参加費無料 \n※雨天の場合は中止になります。\n※宝箱が全部見つかると終了となります。
URL:https://www.england-hill.com/event/%f0%9f%92%8e%e5%ae%9d%e3%81%95%e3%81%8c%e3%81%97-%e7%b5%82%e6%97%a5%e9%96%8b%e5%82%ac-29/
CATEGORIES:宝さがし
ATTACH;FMTTYPE=image/jpeg:https://www.england-hill.com/_config/wp/wp-content/uploads/2025/08/IMG_3624.jpg
END:VEVENT
BEGIN:VEVENT
DTSTART;VALUE=DATE:20260510
DTEND;VALUE=DATE:20260511
DTSTAMP:20260426T114335
CREATED:20260304T025419Z
LAST-MODIFIED:20260304T025419Z
UID:15252-1778371200-1778457599@www.england-hill.com
SUMMARY:💎宝さがし (終日開催)
DESCRIPTION:淡路島イングランドの丘で大人気のイベント「宝さがしゲーム！！」\n広大な敷地内に隠された“宝箱”を見つけだそう!見事、“宝箱”を見つけると景品プレゼント！“宝箱”は全部で5個、隠されているよ@(・●・)@\n参加費無料！誰でもゲームに参加できるよ！！！ \n【開催時間】 終日開催\n【料　　金】 参加費無料 \n※雨天の場合は中止になります。\n※宝箱が全部見つかると終了となります。
URL:https://www.england-hill.com/event/%f0%9f%92%8e%e5%ae%9d%e3%81%95%e3%81%8c%e3%81%97-%e7%b5%82%e6%97%a5%e9%96%8b%e5%82%ac-30/
CATEGORIES:宝さがし
ATTACH;FMTTYPE=image/jpeg:https://www.england-hill.com/_config/wp/wp-content/uploads/2025/08/IMG_3624.jpg
END:VEVENT
BEGIN:VEVENT
DTSTART;VALUE=DATE:20260516
DTEND;VALUE=DATE:20260517
DTSTAMP:20260426T114335
CREATED:20260304T025514Z
LAST-MODIFIED:20260304T025514Z
UID:15254-1778889600-1778975999@www.england-hill.com
SUMMARY:💎宝さがし (終日開催)
DESCRIPTION:淡路島イングランドの丘で大人気のイベント「宝さがしゲーム！！」\n広大な敷地内に隠された“宝箱”を見つけだそう!見事、“宝箱”を見つけると景品プレゼント！“宝箱”は全部で5個、隠されているよ@(・●・)@\n参加費無料！誰でもゲームに参加できるよ！！！ \n【開催時間】 終日開催\n【料　　金】 参加費無料 \n※雨天の場合は中止になります。\n※宝箱が全部見つかると終了となります。
URL:https://www.england-hill.com/event/%f0%9f%92%8e%e5%ae%9d%e3%81%95%e3%81%8c%e3%81%97-%e7%b5%82%e6%97%a5%e9%96%8b%e5%82%ac-31/
CATEGORIES:宝さがし
ATTACH;FMTTYPE=image/jpeg:https://www.england-hill.com/_config/wp/wp-content/uploads/2025/08/IMG_3624.jpg
END:VEVENT
BEGIN:VEVENT
DTSTART;VALUE=DATE:20260517
DTEND;VALUE=DATE:20260518
DTSTAMP:20260426T114335
CREATED:20260304T025555Z
LAST-MODIFIED:20260304T025555Z
UID:15256-1778976000-1779062399@www.england-hill.com
SUMMARY:💎宝さがし (終日開催)
DESCRIPTION:淡路島イングランドの丘で大人気のイベント「宝さがしゲーム！！」\n広大な敷地内に隠された“宝箱”を見つけだそう!見事、“宝箱”を見つけると景品プレゼント！“宝箱”は全部で5個、隠されているよ@(・●・)@\n参加費無料！誰でもゲームに参加できるよ！！！ \n【開催時間】 終日開催\n【料　　金】 参加費無料 \n※雨天の場合は中止になります。\n※宝箱が全部見つかると終了となります。
URL:https://www.england-hill.com/event/%f0%9f%92%8e%e5%ae%9d%e3%81%95%e3%81%8c%e3%81%97-%e7%b5%82%e6%97%a5%e9%96%8b%e5%82%ac-32/
CATEGORIES:宝さがし
ATTACH;FMTTYPE=image/jpeg:https://www.england-hill.com/_config/wp/wp-content/uploads/2025/08/IMG_3624.jpg
END:VEVENT
BEGIN:VEVENT
DTSTART;VALUE=DATE:20260523
DTEND;VALUE=DATE:20260524
DTSTAMP:20260426T114335
CREATED:20260304T025633Z
LAST-MODIFIED:20260304T025633Z
UID:15258-1779494400-1779580799@www.england-hill.com
SUMMARY:💎宝さがし (終日開催)
DESCRIPTION:淡路島イングランドの丘で大人気のイベント「宝さがしゲーム！！」\n広大な敷地内に隠された“宝箱”を見つけだそう!見事、“宝箱”を見つけると景品プレゼント！“宝箱”は全部で5個、隠されているよ@(・●・)@\n参加費無料！誰でもゲームに参加できるよ！！！ \n【開催時間】 終日開催\n【料　　金】 参加費無料 \n※雨天の場合は中止になります。\n※宝箱が全部見つかると終了となります。
URL:https://www.england-hill.com/event/%f0%9f%92%8e%e5%ae%9d%e3%81%95%e3%81%8c%e3%81%97-%e7%b5%82%e6%97%a5%e9%96%8b%e5%82%ac-33/
CATEGORIES:宝さがし
ATTACH;FMTTYPE=image/jpeg:https://www.england-hill.com/_config/wp/wp-content/uploads/2025/08/IMG_3624.jpg
END:VEVENT
BEGIN:VEVENT
DTSTART;VALUE=DATE:20260524
DTEND;VALUE=DATE:20260525
DTSTAMP:20260426T114335
CREATED:20260304T025724Z
LAST-MODIFIED:20260304T025724Z
UID:15260-1779580800-1779667199@www.england-hill.com
SUMMARY:💎宝さがし (終日開催)
DESCRIPTION:淡路島イングランドの丘で大人気のイベント「宝さがしゲーム！！」\n広大な敷地内に隠された“宝箱”を見つけだそう!見事、“宝箱”を見つけると景品プレゼント！“宝箱”は全部で5個、隠されているよ@(・●・)@\n参加費無料！誰でもゲームに参加できるよ！！！ \n【開催時間】 終日開催\n【料　　金】 参加費無料 \n※雨天の場合は中止になります。\n※宝箱が全部見つかると終了となります。
URL:https://www.england-hill.com/event/%f0%9f%92%8e%e5%ae%9d%e3%81%95%e3%81%8c%e3%81%97-%e7%b5%82%e6%97%a5%e9%96%8b%e5%82%ac-34/
CATEGORIES:宝さがし
ATTACH;FMTTYPE=image/jpeg:https://www.england-hill.com/_config/wp/wp-content/uploads/2025/08/IMG_3624.jpg
END:VEVENT
BEGIN:VEVENT
DTSTART;VALUE=DATE:20260530
DTEND;VALUE=DATE:20260531
DTSTAMP:20260426T114335
CREATED:20260304T030832Z
LAST-MODIFIED:20260304T030832Z
UID:15262-1780099200-1780185599@www.england-hill.com
SUMMARY:💎宝さがし (終日開催)
DESCRIPTION:淡路島イングランドの丘で大人気のイベント「宝さがしゲーム！！」\n広大な敷地内に隠された“宝箱”を見つけだそう!見事、“宝箱”を見つけると景品プレゼント！“宝箱”は全部で5個、隠されているよ@(・●・)@\n参加費無料！誰でもゲームに参加できるよ！！！ \n【開催時間】 終日開催\n【料　　金】 参加費無料 \n※雨天の場合は中止になります。\n※宝箱が全部見つかると終了となります。
URL:https://www.england-hill.com/event/%f0%9f%92%8e%e5%ae%9d%e3%81%95%e3%81%8c%e3%81%97-%e7%b5%82%e6%97%a5%e9%96%8b%e5%82%ac-35/
CATEGORIES:宝さがし
ATTACH;FMTTYPE=image/jpeg:https://www.england-hill.com/_config/wp/wp-content/uploads/2025/08/IMG_3624.jpg
END:VEVENT
BEGIN:VEVENT
DTSTART;VALUE=DATE:20260531
DTEND;VALUE=DATE:20260601
DTSTAMP:20260426T114335
CREATED:20260304T031045Z
LAST-MODIFIED:20260304T031045Z
UID:15264-1780185600-1780271999@www.england-hill.com
SUMMARY:💎宝さがし (終日開催)
DESCRIPTION:淡路島イングランドの丘で大人気のイベント「宝さがしゲーム！！」\n広大な敷地内に隠された“宝箱”を見つけだそう!見事、“宝箱”を見つけると景品プレゼント！“宝箱”は全部で5個、隠されているよ@(・●・)@\n参加費無料！誰でもゲームに参加できるよ！！！ \n【開催時間】 終日開催\n【料　　金】 参加費無料 \n※雨天の場合は中止になります。\n※宝箱が全部見つかると終了となります。
URL:https://www.england-hill.com/event/%f0%9f%92%8e%e5%ae%9d%e3%81%95%e3%81%8c%e3%81%97-%e7%b5%82%e6%97%a5%e9%96%8b%e5%82%ac-36/
CATEGORIES:宝さがし
ATTACH;FMTTYPE=image/jpeg:https://www.england-hill.com/_config/wp/wp-content/uploads/2025/08/IMG_3624.jpg
END:VEVENT
END:VCALENDAR