BEGIN:VCALENDAR
VERSION:2.0
PRODID:-//淡路ファームパーク イングランドの丘 - ECPv6.15.20//NONSGML v1.0//EN
CALSCALE:GREGORIAN
METHOD:PUBLISH
X-WR-CALNAME:淡路ファームパーク イングランドの丘
X-ORIGINAL-URL:https://www.england-hill.com
X-WR-CALDESC:淡路ファームパーク イングランドの丘 のイベント
REFRESH-INTERVAL;VALUE=DURATION:PT1H
X-Robots-Tag:noindex
X-PUBLISHED-TTL:PT1H
BEGIN:VTIMEZONE
TZID:Asia/Tokyo
BEGIN:STANDARD
TZOFFSETFROM:+0900
TZOFFSETTO:+0900
TZNAME:JST
DTSTART:20250101T000000
END:STANDARD
END:VTIMEZONE
BEGIN:VEVENT
DTSTART;VALUE=DATE:20260426
DTEND;VALUE=DATE:20260427
DTSTAMP:20260426T102240
CREATED:20260304T023722Z
LAST-MODIFIED:20260304T023722Z
UID:15228-1777161600-1777247999@www.england-hill.com
SUMMARY:💎宝さがし (終日開催)
DESCRIPTION:淡路島イングランドの丘で大人気のイベント「宝さがしゲーム！！」\n広大な敷地内に隠された“宝箱”を見つけだそう!見事、“宝箱”を見つけると景品プレゼント！“宝箱”は全部で5個、隠されているよ@(・●・)@\n参加費無料！誰でもゲームに参加できるよ！！！ \n【開催時間】 終日開催\n【料　　金】 参加費無料 \n※雨天の場合は中止になります。\n※宝箱が全部見つかると終了となります。
URL:https://www.england-hill.com/event/%f0%9f%92%8e%e5%ae%9d%e3%81%95%e3%81%8c%e3%81%97-%e7%b5%82%e6%97%a5%e9%96%8b%e5%82%ac-8/
CATEGORIES:宝さがし
ATTACH;FMTTYPE=image/jpeg:https://www.england-hill.com/_config/wp/wp-content/uploads/2025/08/IMG_3624.jpg
END:VEVENT
BEGIN:VEVENT
DTSTART;VALUE=DATE:20260427
DTEND;VALUE=DATE:20260428
DTSTAMP:20260426T102240
CREATED:20260304T023842Z
LAST-MODIFIED:20260304T070611Z
UID:15230-1777248000-1777334399@www.england-hill.com
SUMMARY:💎宝さがし (終日開催)
DESCRIPTION:淡路島イングランドの丘で大人気のイベント「宝さがしゲーム！！」\n広大な敷地内に隠された“宝箱”を見つけだそう!見事、“宝箱”を見つけると景品プレゼント！“宝箱”は全部で5個、隠されているよ@(・●・)@\n参加費無料！誰でもゲームに参加できるよ！！！ \n【開催時間】 終日開催\n【料　　金】 参加費無料 \n※雨天の場合は中止になります。\n※宝箱が全部見つかると終了となります。
URL:https://www.england-hill.com/event/%f0%9f%92%8e%e5%ae%9d%e3%81%95%e3%81%8c%e3%81%97-%e7%b5%82%e6%97%a5%e9%96%8b%e5%82%ac-9/
CATEGORIES:宝さがし
ATTACH;FMTTYPE=image/jpeg:https://www.england-hill.com/_config/wp/wp-content/uploads/2025/08/IMG_3624.jpg
END:VEVENT
BEGIN:VEVENT
DTSTART;VALUE=DATE:20260428
DTEND;VALUE=DATE:20260429
DTSTAMP:20260426T102240
CREATED:20260304T023923Z
LAST-MODIFIED:20260304T023923Z
UID:15232-1777334400-1777420799@www.england-hill.com
SUMMARY:💎宝さがし (終日開催)
DESCRIPTION:淡路島イングランドの丘で大人気のイベント「宝さがしゲーム！！」\n広大な敷地内に隠された“宝箱”を見つけだそう!見事、“宝箱”を見つけると景品プレゼント！“宝箱”は全部で5個、隠されているよ@(・●・)@\n参加費無料！誰でもゲームに参加できるよ！！！ \n【開催時間】 終日開催\n【料　　金】 参加費無料 \n※雨天の場合は中止になります。\n※宝箱が全部見つかると終了となります。
URL:https://www.england-hill.com/event/%f0%9f%92%8e%e5%ae%9d%e3%81%95%e3%81%8c%e3%81%97-%e7%b5%82%e6%97%a5%e9%96%8b%e5%82%ac-10/
CATEGORIES:宝さがし
ATTACH;FMTTYPE=image/jpeg:https://www.england-hill.com/_config/wp/wp-content/uploads/2025/08/IMG_3624.jpg
END:VEVENT
BEGIN:VEVENT
DTSTART;VALUE=DATE:20260429
DTEND;VALUE=DATE:20260430
DTSTAMP:20260426T102240
CREATED:20260304T024015Z
LAST-MODIFIED:20260304T024015Z
UID:15234-1777420800-1777507199@www.england-hill.com
SUMMARY:💎宝さがし (終日開催)
DESCRIPTION:淡路島イングランドの丘で大人気のイベント「宝さがしゲーム！！」\n広大な敷地内に隠された“宝箱”を見つけだそう!見事、“宝箱”を見つけると景品プレゼント！“宝箱”は全部で5個、隠されているよ@(・●・)@\n参加費無料！誰でもゲームに参加できるよ！！！ \n【開催時間】 終日開催\n【料　　金】 参加費無料 \n※雨天の場合は中止になります。\n※宝箱が全部見つかると終了となります。
URL:https://www.england-hill.com/event/%f0%9f%92%8e%e5%ae%9d%e3%81%95%e3%81%8c%e3%81%97-%e7%b5%82%e6%97%a5%e9%96%8b%e5%82%ac-11/
CATEGORIES:宝さがし
ATTACH;FMTTYPE=image/jpeg:https://www.england-hill.com/_config/wp/wp-content/uploads/2025/08/IMG_3624.jpg
END:VEVENT
BEGIN:VEVENT
DTSTART;VALUE=DATE:20260430
DTEND;VALUE=DATE:20260501
DTSTAMP:20260426T102240
CREATED:20260304T024107Z
LAST-MODIFIED:20260304T024107Z
UID:15236-1777507200-1777593599@www.england-hill.com
SUMMARY:💎宝さがし (終日開催)
DESCRIPTION:淡路島イングランドの丘で大人気のイベント「宝さがしゲーム！！」\n広大な敷地内に隠された“宝箱”を見つけだそう!見事、“宝箱”を見つけると景品プレゼント！“宝箱”は全部で5個、隠されているよ@(・●・)@\n参加費無料！誰でもゲームに参加できるよ！！！ \n【開催時間】 終日開催\n【料　　金】 参加費無料 \n※雨天の場合は中止になります。\n※宝箱が全部見つかると終了となります。
URL:https://www.england-hill.com/event/%f0%9f%92%8e%e5%ae%9d%e3%81%95%e3%81%8c%e3%81%97-%e7%b5%82%e6%97%a5%e9%96%8b%e5%82%ac-22/
CATEGORIES:宝さがし
ATTACH;FMTTYPE=image/jpeg:https://www.england-hill.com/_config/wp/wp-content/uploads/2025/08/IMG_3624.jpg
END:VEVENT
END:VCALENDAR